BEGIN:VCALENDAR
VERSION:2.0
PRODID:-//Anxiety Treatment Experts - ECPv6.15.20//NONSGML v1.0//EN
CALSCALE:GREGORIAN
METHOD:PUBLISH
X-WR-CALNAME:Anxiety Treatment Experts
X-ORIGINAL-URL:https://anxietytreatmentexperts.com
X-WR-CALDESC:Events for Anxiety Treatment Experts
REFRESH-INTERVAL;VALUE=DURATION:PT1H
X-Robots-Tag:noindex
X-PUBLISHED-TTL:PT1H
BEGIN:VTIMEZONE
TZID:UTC
BEGIN:STANDARD
TZOFFSETFROM:+0000
TZOFFSETTO:+0000
TZNAME:UTC
DTSTART:20140101T000000
END:STANDARD
END:VTIMEZONE
BEGIN:VEVENT
DTSTART;TZID=UTC:20160610T000000
DTEND;TZID=UTC:20160610T000000
DTSTAMP:20260425T032623
CREATED:20250625T164341Z
LAST-MODIFIED:20250625T164341Z
UID:895-1465516800-1465516800@anxietytreatmentexperts.com
SUMMARY:The Dr. Robin Zasio Show "Mental Health Matters"
DESCRIPTION:Topic: The Devastating Effects of Body Dysmorphic Disorder. \nMost of us have something that we don’t like about our appearance.  It may be that our lips are too thin\, ears too big\, skin too light\, or feet too wide.  And while we might be bothered by some of these aspects that we would like to change\, we don’t necessarily focus on the them throughout the day to the point that they interfere with our ability to focus on work\, education\, and other important aspects of our lives. But people who have Body Dysmorphic Disorder (BDD) think about their perceived flaws for hours each day. My guest\, Scott Granet\, LMFT\, is both a therapist who treats BDD and also one who has suffered from this condition.  Join me a in a candid conversation about what BDD looks like\, how it is treated\, and where you can get help.
URL:https://anxietytreatmentexperts.com/events/the-dr-robin-zasio-show-mental-health-matters-13/
END:VEVENT
BEGIN:VEVENT
DTSTART;TZID=UTC:20160509T000000
DTEND;TZID=UTC:20160509T000000
DTSTAMP:20260425T032623
CREATED:20250625T164327Z
LAST-MODIFIED:20250625T164327Z
UID:894-1462752000-1462752000@anxietytreatmentexperts.com
SUMMARY:Sutter Family Medicine Residency Program
DESCRIPTION:Topic: Non-medication Interventions in the Treatment of Anxiety Disorders. \nOften times when individuals seek treatment for anxiety disorders\, the first line of treatment is to prescribe medications. Many people are not aware that frequently\, anxiety can be treated without pharmacological interventions. This presentation is for residents at Sutter Family Medicine who are seeking information about how they can treat or refer their patients when it appears as though they may be able to benefit from therapeutic interventions alone.
URL:https://anxietytreatmentexperts.com/events/sutter-family-medicine-residency-program/
END:VEVENT
BEGIN:VEVENT
DTSTART;TZID=UTC:20160509T000000
DTEND;TZID=UTC:20160509T000000
DTSTAMP:20260425T032623
CREATED:20250625T164326Z
LAST-MODIFIED:20250625T164326Z
UID:892-1462752000-1462752000@anxietytreatmentexperts.com
SUMMARY:The Dr. Robin Zasio Show "Mental Health Matters"
DESCRIPTION:Topic: Bipolar Disorder~ The Tragic Consequences When Not Treated Properly. \nBipolar Disorder is a form of a mood disorder that affects 5.7 million American adults\, or about 2.6% of the U.S. population.  People with bipolar disorder experience unusually intense emotional states that occur in distinct periods called “mood episodes.” Each mood episode represents a drastic change from a person’s usual mood and behavior. An overly joyful or overexcited state is called a manic episode\, and an extremely sad or hopeless state is called depression.  Robert Villanueva\, national speaker & trainer for The National Alliance on Mental Illness\, will share how his life was severely disrupted with the initial misdiagnoses of depression\, which had led to the loss of his career\, end of his tenure as a head high school wrestling coach\, loss of his home\, and the dissolution of his family. Homeless\, jobless\, and dependent on the charity of others\, he was on the brink of suicide. Robert somehow managed to lean on his faith and started on the long road to recovery through education about severe mental illness & peer support.
URL:https://anxietytreatmentexperts.com/events/the-dr-robin-zasio-show-mental-health-matters-11/
END:VEVENT
BEGIN:VEVENT
DTSTART;TZID=UTC:20160509T000000
DTEND;TZID=UTC:20160509T000000
DTSTAMP:20260425T032623
CREATED:20250625T164326Z
LAST-MODIFIED:20250625T164326Z
UID:893-1462752000-1462752000@anxietytreatmentexperts.com
SUMMARY:The Dr. Robin Zasio Show "Mental Health Matters"
DESCRIPTION:Topic: Eating Disorders: Understanding Signs\, Symptoms\, and Effective Treatment Modalities. \nEating disorders are serious\, life-threatening illnesses that impact millions of people every year in the United States.  Often misunderstood as a fad\, phase\, or lifestyle choice\, these conditions can cause abnormally slow heart rate and low blood pressure\, heart failure\, reduction of bone density (osteoporosis\, muscle loss and weakness\, severe dehydration\, and kidney failure.  Courtney Rhea Riviero\, from Eating Recovery Center\, will discuss the various forms of eating disorders\, what the initial signs and symptoms\, effective treatment modalities\, and how to access help.
URL:https://anxietytreatmentexperts.com/events/the-dr-robin-zasio-show-mental-health-matters-12/
END:VEVENT
BEGIN:VEVENT
DTSTART;TZID=UTC:20160407T000000
DTEND;TZID=UTC:20160407T000000
DTSTAMP:20260425T032623
CREATED:20250625T164326Z
LAST-MODIFIED:20250625T164326Z
UID:891-1459987200-1459987200@anxietytreatmentexperts.com
SUMMARY:2016 1 Million Steps 4 OCD Walk
DESCRIPTION:The International OCD Foundation (IOCDF) is pleased to announce that the Northern California 1 Million Steps 4 OCD Walk will now be co-hosted by OCD SF Bay Area and OCD Sacramento\, and will take place at scenic Lake Merrit in Oakland on Saturday\, June 4\, 2016! \nWalking is as easy as 1-2-3: \n1. Go to iocdf.org/walkNorCal and click “Register” to join the Walk. Registration is FREE\, but you must raise or donate a minimum of $25 to earn your commemorative Walk T-shirt. \n2. Join or create a fundraising team to walk and raise awareness with or register as an individual walker. \n3. Join us at the Lake Merritt Amphitheater on June 4th\, 2016\, as we take 1 Million Steps 4 OCD!
URL:https://anxietytreatmentexperts.com/events/2016-1-million-steps-4-ocd-walk/
END:VEVENT
BEGIN:VEVENT
DTSTART;TZID=UTC:20160324T000000
DTEND;TZID=UTC:20160324T000000
DTSTAMP:20260425T032623
CREATED:20250625T164310Z
LAST-MODIFIED:20250625T164326Z
UID:889-1458777600-1458777600@anxietytreatmentexperts.com
SUMMARY:The Dr. Robin Zasio Show “Mental Health Matters”
DESCRIPTION:Topic: Inpatient or Outpatient? Medications or Therapy? Understanding the Differences in Levels of Treatment and How to Access the Right Resources. \nDo you or a loved one struggle with mental health issues\, but are not sure where to turn? Have you wondered if you should see a psychiatrist\, psychologist\, therapist\, or medical doctor for the symptoms you are experiencing? Are you confused about what these providers offer and are not sure where to get the answers your looking for? Dr. Raheel Khan\, D.O.\, is a board certified psychiatrist with a special interest in psychosomatic medicine and will appear LIVE to answer these questions for you. He is a Chief Psychiatrist at Sutter Center for Psychiatry in Sacramento\, CA\, and is on the faculty of the UC Davis Department of Psychiatry and Behavioral Medicine as an assistant professor of psychosomatic medicine.
URL:https://anxietytreatmentexperts.com/events/the-dr-robin-zasio-show-mental-health-matters-10/
END:VEVENT
BEGIN:VEVENT
DTSTART;TZID=UTC:20160205T000000
DTEND;TZID=UTC:20160205T000000
DTSTAMP:20260425T032623
CREATED:20250625T164257Z
LAST-MODIFIED:20250625T164310Z
UID:884-1454630400-1454630400@anxietytreatmentexperts.com
SUMMARY:The Dr. Robin Zasio Show "Mental Health Matters"
DESCRIPTION:Topic: How to Cultivate a Life of Meaning\, Purpose\, and Joy. Feeling depleted\, as if your tank is low and you have little to give to yourself and others?  So busy focusing on everyone else that you no longer recognize yourself?  Feeling stuck with no clear idea of where to go or how to feel better?  At a life transition and want to make a healthy\, lasting change to live your best life?  My guest\, Shelley Balla-Hawkins\, Licensed Marriage and Family Therapist\, who specializes in wellness\, connection and creativity\,  will help you to  overcome some of these challenges and help you to cultivate a life of meaning\, purpose and joy.
URL:https://anxietytreatmentexperts.com/events/the-dr-robin-zasio-show-mental-health-matters-9/
END:VEVENT
BEGIN:VEVENT
DTSTART;TZID=UTC:20160205T000000
DTEND;TZID=UTC:20160205T000000
DTSTAMP:20260425T032623
CREATED:20250625T164256Z
LAST-MODIFIED:20250625T164256Z
UID:881-1454630400-1454630400@anxietytreatmentexperts.com
SUMMARY:The Dr. Robin Zasio Show "Mental Health Matters"
DESCRIPTION:Topic: The Role of Medications in the Treatment of Mental Health. \nWhen people begin to experience mental health symptoms\, often times they will start with making an appointment with their primary care physian\, not knowing what else to do.  Along those same lines\, it is common that medications are prescribed without any recommendation for therapy to address the specific symptoms they are concerned about. Dr. Laura Nasatir\, MD\, who is double Board Certified in both Child and Adolescent Psychiatry\, will join us to discuss the role of medications when treating mental health symptoms\, when it is appropriate to prescribe\, and what to expect in the course of treatment.
URL:https://anxietytreatmentexperts.com/events/the-dr-robin-zasio-show-mental-health-matters-6/
END:VEVENT
BEGIN:VEVENT
DTSTART;TZID=UTC:20160205T000000
DTEND;TZID=UTC:20160205T000000
DTSTAMP:20260425T032623
CREATED:20250625T164256Z
LAST-MODIFIED:20250625T164256Z
UID:882-1454630400-1454630400@anxietytreatmentexperts.com
SUMMARY:The Dr. Robin Zasio Show "Mental Health Matters"
DESCRIPTION:How to Fight Depression and Reclaim Your Life! \nLana Janey. \nDepression is one of the most common mental health conditions affecting individuals in the community.  The statistics are both alarming and rising.  A common misunderstood condition\, Lana Janey will be joining us to discuss how her life spired out of control after she was side blinded by her own depression\, giving us a direct look at how it can impact ones life and common barriers that contribute to why individuals avoid seeking help.
URL:https://anxietytreatmentexperts.com/events/the-dr-robin-zasio-show-mental-health-matters-7/
END:VEVENT
BEGIN:VEVENT
DTSTART;TZID=UTC:20160205T000000
DTEND;TZID=UTC:20160205T000000
DTSTAMP:20260425T032623
CREATED:20250625T164256Z
LAST-MODIFIED:20250625T164256Z
UID:883-1454630400-1454630400@anxietytreatmentexperts.com
SUMMARY:The Dr. Robin Zasio Show "Mental Health Matters"
DESCRIPTION:Topic: The Tragic Consequences of Bullying. \nOne out of every four students (22%) report being bullied during the school year.  64% percent of children who were bullied did not report it and only 36 percent reported the bullying.  Lisa Ford-Berry will appear in studio to share the story of her son\, who tragically took his life after being bullied at school\, and the behind the scenes cover up that occurred to prevent the details of what truly happened from being revealed.
URL:https://anxietytreatmentexperts.com/events/the-dr-robin-zasio-show-mental-health-matters-8/
END:VEVENT
BEGIN:VEVENT
DTSTART;TZID=UTC:20160205T000000
DTEND;TZID=UTC:20160205T000000
DTSTAMP:20260425T032623
CREATED:20250625T164255Z
LAST-MODIFIED:20250625T164255Z
UID:880-1454630400-1454630400@anxietytreatmentexperts.com
SUMMARY:The Dr. Robin Zasio Show "Mental Health Matters"
DESCRIPTION:Topic: Tips to Declutter Your Home that are Fast and Easy! \nMaking decisions about what to keep and what to get rid of is never an easy task and one that most of us tend to put on the back burner.  Where to put items\, how to dispose of unwanted items\, and finding the time can also prove to be challenging.  Dorothy Breininger is the Country’s Leading Organizing Expert and contributer to Dr. Zasio’s book The Hoarder in You: How to Live a Healthier\, Happier\, Uncluttered Life\, will be joining us.  She will share tips to help organize those cluttered drawers and rooms that are fast and easy.  She will also introduce strategies to make the process less daunting and even something to have fun with.
URL:https://anxietytreatmentexperts.com/events/the-dr-robin-zasio-show-mental-health-matters-5/
END:VEVENT
BEGIN:VEVENT
DTSTART;TZID=UTC:20160204T000000
DTEND;TZID=UTC:20160204T000000
DTSTAMP:20260425T032623
CREATED:20250625T164242Z
LAST-MODIFIED:20250625T164242Z
UID:878-1454544000-1454544000@anxietytreatmentexperts.com
SUMMARY:The Dr. Robin Zasio Show "Mental Health Matters"
DESCRIPTION:Topic: The Struggles of Pain Management and What You Can Do. \nPain affects all of us at some point in our lives. For some it can be minimal and for others\, chronic.  Guest\, Dr. Daniel Rockers\, is a leading expert in the treatment of pain management\, neuropsychology\, and the mind-body connection.  He will share the impact pain can have both psychologically and physiologically on the body and what can be done to ease the impact.
URL:https://anxietytreatmentexperts.com/events/the-dr-robin-zasio-show-mental-health-matters-3/
END:VEVENT
BEGIN:VEVENT
DTSTART;TZID=UTC:20160204T000000
DTEND;TZID=UTC:20160204T000000
DTSTAMP:20260425T032623
CREATED:20250625T164242Z
LAST-MODIFIED:20250625T164242Z
UID:879-1454544000-1454544000@anxietytreatmentexperts.com
SUMMARY:The Dr. Robin Zasio Show "Mental Health Matters"
DESCRIPTION:Topic: How to Make 2016 the Best Year Ever! \nDo you want 2016 to be different than 2015? Do you want to break through to greater levels of confidence\, dating and relationship success\, career advancement\, income\, and success? That’s what 2016 is all about. Join Dr. Aziz\, Psychological and Author of 5 Steps to Unleash Your Inner Confidence in this powerful episode that will guide you through a process to make 2016 the year that everything changed.
URL:https://anxietytreatmentexperts.com/events/the-dr-robin-zasio-show-mental-health-matters-4/
END:VEVENT
BEGIN:VEVENT
DTSTART;TZID=UTC:20160204T000000
DTEND;TZID=UTC:20160204T000000
DTSTAMP:20260425T032623
CREATED:20250625T164241Z
LAST-MODIFIED:20250625T164241Z
UID:876-1454544000-1454544000@anxietytreatmentexperts.com
SUMMARY:The Dr. Robin Zasio Show "Mental Health Matters"
DESCRIPTION:Topic: Finding The Right Help with Guest Brian McPeak. \nThis will be the first show in a series that will air weekly. The format of the show will be introduced and a discussion of topics to come. Guest Brian McPeak will share his struggles in finding the right treatment\, the devastating consequences\, and how his life changed once he did. \n[soundcloud url=”https://api.soundcloud.com/tracks/264819019″
URL:https://anxietytreatmentexperts.com/events/the-dr-robin-zasio-show-mental-health-matters/
END:VEVENT
BEGIN:VEVENT
DTSTART;TZID=UTC:20160204T000000
DTEND;TZID=UTC:20160204T000000
DTSTAMP:20260425T032623
CREATED:20250625T164241Z
LAST-MODIFIED:20250625T164241Z
UID:877-1454544000-1454544000@anxietytreatmentexperts.com
SUMMARY:The Dr. Robin Zasio Show "Mental Health Matters"
DESCRIPTION:Topic: The Impact of Stigma with Guest Jeff Bell. \nStigma frequently prevents people from seeking treatment. As a result\, countless people suffer from mental health issues unnecessarily.  Guest Jeff Bell\, co-anchor for KCBS Radio in San Francisco and Author of Rewind\, Replay\, Repeat and When in Doubt\, Make Belief\, has become an established leading authority on adversity and the impact of stigma.  He will share his struggles with Obsessive Compulsive Disorder and how his fear halted his efforts to seek help.
URL:https://anxietytreatmentexperts.com/events/the-dr-robin-zasio-show-mental-health-matters-2/
END:VEVENT
BEGIN:VEVENT
DTSTART;TZID=UTC:20151229T000000
DTEND;TZID=UTC:20151229T000000
DTSTAMP:20260425T032623
CREATED:20250625T164241Z
LAST-MODIFIED:20250625T164241Z
UID:875-1451347200-1451347200@anxietytreatmentexperts.com
SUMMARY:OCD Sacramento- "Medication Discussion Group"
DESCRIPTION:Presented by Guy Taylor\, BA\, Ph.D Practicum Student. \nTopics in this discussion include~ what happens when we take medications\, side effects of medications\, how medications work\, why we should take medications\, and what we should consider when taking medication and the importance of talking to your doctor.
URL:https://anxietytreatmentexperts.com/events/ocd-sacramento-medication-discussion-group/
END:VEVENT
BEGIN:VEVENT
DTSTART;TZID=UTC:20151216T000000
DTEND;TZID=UTC:20151216T000000
DTSTAMP:20260425T032623
CREATED:20250625T164227Z
LAST-MODIFIED:20250625T164227Z
UID:873-1450224000-1450224000@anxietytreatmentexperts.com
SUMMARY:OCD Sacramento- "Helping Loved Ones Struggling with OCD"
DESCRIPTION:Presented by Holly Wang\, LMFT \nEducation and discussion for family members and other support for people living with/or in relationship with someone suffering from OCD.
URL:https://anxietytreatmentexperts.com/events/ocd-sacramento-helping-loved-ones-struggling-with-ocd/
END:VEVENT
BEGIN:VEVENT
DTSTART;TZID=UTC:20151216T000000
DTEND;TZID=UTC:20151216T000000
DTSTAMP:20260425T032623
CREATED:20250625T164227Z
LAST-MODIFIED:20250625T164227Z
UID:874-1450224000-1450224000@anxietytreatmentexperts.com
SUMMARY:OCD Sacramento- "Introduction to Social Anxiety and Treatment"
DESCRIPTION:Social Anxiety Disorder is the second most common anxiety disorder in the U.S. affecting both children and adults alike.  The implications can be devastating\, impairing one’s ability to work\, go to school\, and engage in social relationships. Treatment for this condition produces it’s challenges as the very social situations that a person fears is approached through Exposure and Response Prevention.  This modality\, which provides a gradual desensitization\, can also produce results lasting a lifetime. \nJoin Heather Damon who will discuss common symptoms of Social Anxiety Disorder\, what to expect in treatment\, and offer an opportunity to ask clarifying questions.
URL:https://anxietytreatmentexperts.com/events/ocd-sacramento-introduction-to-social-anxiety-and-treatment/
END:VEVENT
BEGIN:VEVENT
DTSTART;TZID=UTC:20151216T000000
DTEND;TZID=UTC:20151216T000000
DTSTAMP:20260425T032623
CREATED:20250625T164226Z
LAST-MODIFIED:20250625T164226Z
UID:871-1450224000-1450224000@anxietytreatmentexperts.com
SUMMARY:OCD Sacramento- "Expert Panel"
DESCRIPTION:Presented by Tracy Roulet\, Psy.D. \n  \nThis presentation/Q&A will feature experts in the field of Anxiety Disorders from both a professional and personal perspective.
URL:https://anxietytreatmentexperts.com/events/ocd-sacramento-expert-panel/
END:VEVENT
BEGIN:VEVENT
DTSTART;TZID=UTC:20151216T000000
DTEND;TZID=UTC:20151216T000000
DTSTAMP:20260425T032623
CREATED:20250625T164226Z
LAST-MODIFIED:20250625T164226Z
UID:872-1450224000-1450224000@anxietytreatmentexperts.com
SUMMARY:OCD Sacramento- "Pediatric OCD"
DESCRIPTION:Presented by Kathy Ventry\, LMFT \nThis talk will discuss the prevalence\, symptoms and treatment of Pediatric OCD.
URL:https://anxietytreatmentexperts.com/events/ocd-sacramento-pediatric-ocd/
END:VEVENT
BEGIN:VEVENT
DTSTART;TZID=UTC:20151216T000000
DTEND;TZID=UTC:20151216T000000
DTSTAMP:20260425T032623
CREATED:20250625T164225Z
LAST-MODIFIED:20250625T164225Z
UID:870-1450224000-1450224000@anxietytreatmentexperts.com
SUMMARY:Continuing Success After Treatment
DESCRIPTION:Presented by Jill Kruse \n  \nHelpful tips and resources to help you on your journey after treatment.
URL:https://anxietytreatmentexperts.com/events/continuing-success-after-treatment/
END:VEVENT
BEGIN:VEVENT
DTSTART;TZID=UTC:20151216T000000
DTEND;TZID=UTC:20151216T000000
DTSTAMP:20260425T032623
CREATED:20250625T164213Z
LAST-MODIFIED:20250625T164213Z
UID:869-1450224000-1450224000@anxietytreatmentexperts.com
SUMMARY:OCD Sacramento- "Barriers in Treatment"
DESCRIPTION:Presented by Elizabeth Dale. \nA discussion of some of the internal (ie shame) and external (ie insurance) barriers to effective treatment. \n 
URL:https://anxietytreatmentexperts.com/events/ocd-sacramento-barriers-in-treatment/
END:VEVENT
BEGIN:VEVENT
DTSTART;TZID=UTC:20151216T000000
DTEND;TZID=UTC:20151216T000000
DTSTAMP:20260425T032623
CREATED:20250625T164212Z
LAST-MODIFIED:20250625T164212Z
UID:868-1450224000-1450224000@anxietytreatmentexperts.com
SUMMARY:OCD Sacramento-"Introduction to OCD\, Treatment and Recovery"
DESCRIPTION:OCD is a diagnosis that is often missed or misunderstood.  This presentation will offer attendees introductory information on OCD including how it is diagnosed\, common symptoms\, and a discussion on the front line treatments.  Time for questions and answers will be allotted as well as what can be expected after treatment. \nPresented by Dr. Robin Zasio\, Psy.D.\,LCSW \n 
URL:https://anxietytreatmentexperts.com/events/ocd-sacramento-introduction-to-ocd-treatment-and-recovery/
END:VEVENT
BEGIN:VEVENT
DTSTART;TZID=UTC:20151214T000000
DTEND;TZID=UTC:20151214T000000
DTSTAMP:20260425T032623
CREATED:20250625T164212Z
LAST-MODIFIED:20250625T164212Z
UID:866-1450051200-1450051200@anxietytreatmentexperts.com
SUMMARY:Panic Disorder in Adults and Treatment Implications
DESCRIPTION:Panic Disorder is a very complex condition that requires specialized treatment considerations. This presentation will help attendees learn the various ways in which this disorder can manifest\, how to apply Exposure and Response Prevention (ERP) techniques\, and ways to increase a successful treatment outcome.  \nFor Kaiser Employees only.
URL:https://anxietytreatmentexperts.com/events/panic-disorder-in-adults-and-treatment-implications/
END:VEVENT
BEGIN:VEVENT
DTSTART;TZID=UTC:20151214T000000
DTEND;TZID=UTC:20151214T000000
DTSTAMP:20260425T032623
CREATED:20250625T164212Z
LAST-MODIFIED:20250625T164212Z
UID:867-1450051200-1450051200@anxietytreatmentexperts.com
SUMMARY:2016 California Association of Marriage and Family Therapists Annual Convention
DESCRIPTION:The Importance of Instilling Hope and Motivation when Working with Clients Recovery\, and the Challenges and Triumphs of Putting a Life Together. \nOne of the greatest challenges for therapists is to motivate their patients to make positive behavior changes.  Finding motivation to do the hard work in treatment can be difficult\, especially after years of attempts at therapy without feeling success.    Sometimes\, hope is lost and those wanting change resolve themselves to the idea that it can’t happen.  This workshop will discuss multiple ways in which clinicians can inspire hope and motivation in their clients that will help to improve compliance with the treatment process\, which includes motivational interviewing.  Strategies to build motivation\, reduce sabotage\, and create healthier thinking patterns will be discussed\, in addition to ways to improve long term success to build a healthier\, happier\, balanced lifestyle. \n 
URL:https://anxietytreatmentexperts.com/events/2016-california-association-of-marriage-and-family-therapists-annual-convention/
END:VEVENT
BEGIN:VEVENT
DTSTART;TZID=UTC:20151214T000000
DTEND;TZID=UTC:20151214T000000
DTSTAMP:20260425T032623
CREATED:20250625T164211Z
LAST-MODIFIED:20250625T164211Z
UID:865-1450051200-1450051200@anxietytreatmentexperts.com
SUMMARY:Social Anxiety Disorder in Adults and Treatment Implications
DESCRIPTION:Social Anxiety Disorder (SAD) is the second most common diagnosis in the area of anxiety disorders among U.S. Americans. This presentation will help attendees to identify common symptoms associated with this disorder\, common co- morbid diagnoses\, and how to develop a hierarchy to help them begin the treatment process. \nFor Kaiser Employee’s only.
URL:https://anxietytreatmentexperts.com/events/social-anxiety-disorder-in-adults-and-treatment-implications/
END:VEVENT
BEGIN:VEVENT
DTSTART;TZID=UTC:20151211T000000
DTEND;TZID=UTC:20151211T000000
DTSTAMP:20260425T032623
CREATED:20250625T164052Z
LAST-MODIFIED:20250625T164052Z
UID:864-1449792000-1449792000@anxietytreatmentexperts.com
SUMMARY:OCD in Children and Adolescents and Treatment Implications
DESCRIPTION:OCD in children and adolescents can look differently when in comparison to adults struggling with this disorder. This presentation will help attendees to better understand how to identify common ways in which OCD can manifest in these age groups\, how to use language that will help them to better articulate their fears\, and techniques to help them better engage in the treatment process. \nFor Kaiser Employee’s only.
URL:https://anxietytreatmentexperts.com/events/ocd-in-children-and-adolescents-and-treatment-implications/
END:VEVENT
BEGIN:VEVENT
DTSTART;TZID=UTC:20151130T000000
DTEND;TZID=UTC:20151130T000000
DTSTAMP:20260425T032623
CREATED:20250625T164052Z
LAST-MODIFIED:20250625T164052Z
UID:862-1448841600-1448841600@anxietytreatmentexperts.com
SUMMARY:Sacramento Valley Psychological Association Annual Holiday Party
DESCRIPTION:Please join the SVPA board and your colleagues for this festive occasion on Saturday\, December 12th. Spouses and partners are also welcome. There will be an abundance of good food and wine. This event is being at “The Anxiety Treatment Center.” Registration is free for members. \nSpace is limited so register today at http://www.sacramentovalleypsychologist.com\nFor questions or more information\, please contact SVPA at svpa@gmail.com
URL:https://anxietytreatmentexperts.com/events/sacramento-valley-psychological-association-annual-holiday-party/
END:VEVENT
BEGIN:VEVENT
DTSTART;TZID=UTC:20151130T000000
DTEND;TZID=UTC:20151130T000000
DTSTAMP:20260425T032623
CREATED:20250625T164052Z
LAST-MODIFIED:20250625T164052Z
UID:863-1448841600-1448841600@anxietytreatmentexperts.com
SUMMARY:Annual ATC Holiday Party
DESCRIPTION:The Annual ATC Holiday Party will take place Sunday\, December 6th!
URL:https://anxietytreatmentexperts.com/events/annual-atc-holiday-party/
END:VEVENT
BEGIN:VEVENT
DTSTART;TZID=UTC:20151130T000000
DTEND;TZID=UTC:20151130T000000
DTSTAMP:20260425T032623
CREATED:20250625T164051Z
LAST-MODIFIED:20250625T164051Z
UID:861-1448841600-1448841600@anxietytreatmentexperts.com
SUMMARY:Capital Region Healthcare Summit Agenda
DESCRIPTION:Mental Health Panel Discussion (Room 1029) \nTopic: Current issues in mental health on the school campus and in society \n  Dr. Daniel Rockers\, President-elect\, Sacramento Valley Psychological Association\n  Amir Ramezani\, PhD\, Neuropsychologist and Assoc. Director\, Pain Psychiatry and Behavioral Health\, UC Davis\n  Lisa Peterson\, PhD\, Psychologist and Clinical Director\, Eating Recovery Center\n  Robin Zasio\, Psy. D.\, LCSW\, Owner and Director\, The Anxiety Treatment Center and Cognitive Behavior Therapy Center of Sacramento\n  Gail Burmeister\, Assistant Professor of Mental Health Nursing\, CSUS
URL:https://anxietytreatmentexperts.com/events/capital-region-healthcare-summit-agenda/
END:VEVENT
END:VCALENDAR